BEGIN:VCALENDAR
VERSION:2.0
PRODID:-//Dr. Peter DeBenedittis - Media Literacy for Prevention, Critical Thinking, Self Esteem//NONSGML v1.0//EN
CALSCALE:GREGORIAN
METHOD:PUBLISH
X-WR-CALNAME:Dr. Peter DeBenedittis - Media Literacy for Prevention, Critical Thinking, Self Esteem
X-ORIGINAL-URL:http://medialiteracy.net
X-WR-CALDESC:Events for Dr. Peter DeBenedittis - Media Literacy for Prevention, Critical Thinking, Self Esteem
BEGIN:VEVENT
DTSTART;VALUE=DATE:20150120
DTEND;VALUE=DATE:20150122
DTSTAMP:20141006T204804
CREATED:20141003T115422
LAST-MODIFIED:20141003T115422
UID:73357@http://medialiteracy.net
SUMMARY:Edgewood Middle School
DESCRIPTION:
LOCATION:NM, United States
URL:http://medialiteracy.net/event/edgewood-middle-school-5/
END:VEVENT
END:VCALENDAR